BEGIN:VCALENDAR
VERSION:2.0
PRODID:-//Tukios.com/
BEGIN:VEVENT
UID:d7d54ffd-cf41-4dc5-95c8-a18e0d4dee4d@www.knoxvillecms.com
DTSTAMP:20260421T010517Z
DTSTART:20260501T230000Z
DTEND:20260502T000000Z
SUMMARY:Funeral Service
DESCRIPTION:
URL:https://www.knoxvillecms.com/obituaries/terry-carroll
LOCATION:The Crossing Church 2941 Douglas Dam Road  Kodak TN 37764
GEO:35.9563816;-83.5968793
END:VEVENT
END:VCALENDAR