BEGIN:VCALENDAR
VERSION:2.0
PRODID:-//Tukios.com/
BEGIN:VEVENT
UID:655d6dbe-0f05-4638-95d3-3e20d67926ae@www.knoxvillecms.com
DTSTAMP:20260421T010127Z
DTSTART:20260501T210000Z
DTEND:20260501T230000Z
SUMMARY:Visitation
DESCRIPTION:
URL:https://www.knoxvillecms.com/obituaries/terry-carroll
LOCATION:The Crossing Church 2941 Douglas Dam Road  Kodak TN 37764
GEO:35.9563816;-83.5968793
END:VEVENT
END:VCALENDAR